BEGIN:VCALENDAR
VERSION:2.0
PRODID:SchoolNow
CALSCALE:GREGORIAN
BEGIN:VEVENT
UID:33426a22-4b6c-11ef-af5d-024054a58871
DTSTAMP:20240729T165342Z
SUMMARY:LHS Orchestra Concert (12-12-24)
LOCATION:LHS Auditorium
URL;VALUE=URI:https://www.liverpool.k12.ny.us/schools/lhs/calendar/6313169/
 lhs-orchestra-concert
DTSTART:20241213T000000Z
DTEND:20241213T020000Z
END:VEVENT
END:VCALENDAR
