BEGIN:VCALENDAR
VERSION:2.0
PRODID:SchoolNow
CALSCALE:GREGORIAN
BEGIN:VEVENT
UID:5732e9f2-4b6c-11ef-93d2-0a58a9feac02
DTSTAMP:20240729T165316Z
SUMMARY:FAME (12/13/24)
LOCATION:LHS Auditorium
URL;VALUE=URI:https://www.liverpool.k12.ny.us/schools/lhs/calendar/6313170/
 fame-12-13
DTSTART:20241214T000000Z
DTEND:20241214T020000Z
END:VEVENT
END:VCALENDAR
