BEGIN:VCALENDAR
VERSION:2.0
PRODID:SchoolNow
CALSCALE:GREGORIAN
BEGIN:VEVENT
UID:67cb7de2-4b6c-11ef-805a-0a58a9feac02
DTSTAMP:20240729T165254Z
SUMMARY:FAME (12/14/24)
LOCATION:LHS Auditorium
URL;VALUE=URI:https://www.liverpool.k12.ny.us/schools/lhs/calendar/6313171/
 fame-12-14
DTSTART:20241215T000000Z
DTEND:20241215T020000Z
END:VEVENT
END:VCALENDAR
