BEGIN:VCALENDAR
VERSION:2.0
PRODID:SchoolNow
CALSCALE:GREGORIAN
BEGIN:VEVENT
UID:84c86ae0-4b6c-11ef-8364-0a58a9feac02
DTSTAMP:20240729T165212Z
SUMMARY:LHS Choir Concert (12-19-24)
URL;VALUE=URI:https://www.liverpool.k12.ny.us/schools/lhs/calendar/6313172/
 lhs-choir-concert
DTSTART:20241220T000000Z
DTEND:20241220T020000Z
END:VEVENT
END:VCALENDAR
