BEGIN:VCALENDAR
VERSION:2.0
PRODID:SchoolNow
CALSCALE:GREGORIAN
BEGIN:VEVENT
UID:e6ef699a-655b-11ef-a733-0a58a9feac02
DTSTAMP:20240828T163806Z
SUMMARY:PLC Early Dismissal 6-12 (10-31-24)
URL;VALUE=URI:https://www.liverpool.k12.ny.us/schools/lhs/calendar/6474127/
 plc-early-dismissal-6-12-10-31-24
DTSTART:20241031T181700Z
DTEND:20241031T191700Z
END:VEVENT
END:VCALENDAR
