BEGIN:VCALENDAR
VERSION:2.0
PRODID:SchoolNow
CALSCALE:GREGORIAN
BEGIN:VEVENT
UID:a79b6eca-6eb5-11ef-8774-0a58a9feac02
DTSTAMP:20240909T141315Z
SUMMARY:High School Report Cards Online (11-15-24)
URL;VALUE=URI:https://www.liverpool.k12.ny.us/schools/lhs/calendar/6560005/
 high-school-report-cards-online-11-15-24
DTSTART:20241115T151200Z
DTEND:20241115T161200Z
END:VEVENT
END:VCALENDAR
