BEGIN:VCALENDAR
VERSION:2.0
PRODID:SchoolNow
CALSCALE:GREGORIAN
BEGIN:VEVENT
UID:f2b16650-6eb8-11ef-b95b-0a58a9feac02
DTSTAMP:20240909T143649Z
SUMMARY:High School Report Cards Online (4-25-25)
URL;VALUE=URI:https://www.liverpool.k12.ny.us/schools/lhs/calendar/6560177/
 high-school-report-cards-online-4-25-25
DTSTART:20250425T143600Z
DTEND:20250425T153600Z
END:VEVENT
END:VCALENDAR
