BEGIN:VCALENDAR
VERSION:2.0
PRODID:SchoolNow
CALSCALE:GREGORIAN
BEGIN:VEVENT
UID:b77150ba-cdee-11ef-8e07-0afff4edb9b7
DTSTAMP:20250108T183103Z
SUMMARY:Synergy
LOCATION:LHS
URL;VALUE=URI:https://www.liverpool.k12.ny.us/schools/lhs/calendar/7286740/
 synergy
DTSTART:20250115T150000Z
DTEND:20250115T180000Z
END:VEVENT
END:VCALENDAR
