BEGIN:VCALENDAR
VERSION:2.0
PRODID:SchoolNow
CALSCALE:GREGORIAN
BEGIN:VEVENT
UID:dc5f2848-cdee-11ef-a0b4-0affc1f91357
DTSTAMP:20250108T183205Z
SUMMARY:CTE Pathway Night
LOCATION:LHS
URL;VALUE=URI:https://www.liverpool.k12.ny.us/schools/lhs/calendar/7286741/
 cte-pathway-night
DTSTART:20250116T230000Z
DTEND:20250117T003000Z
END:VEVENT
END:VCALENDAR
