BEGIN:VCALENDAR
VERSION:2.0
PRODID:SchoolNow
CALSCALE:GREGORIAN
BEGIN:VEVENT
UID:04608224-cdef-11ef-8b94-0a58a9feac02
DTSTAMP:20250108T183312Z
SUMMARY:Post High School Planning Night
LOCATION:LHS Auditorium
URL;VALUE=URI:https://www.liverpool.k12.ny.us/schools/lhs/calendar/7286742/
 post-high-school-planning-night
DTSTART:20250123T230000Z
DTEND:20250124T000000Z
END:VEVENT
END:VCALENDAR
