BEGIN:VCALENDAR
VERSION:2.0
PRODID:SchoolNow
CALSCALE:GREGORIAN
BEGIN:VEVENT
UID:4c5ea1e6-cdef-11ef-878c-0affd6be7c07
DTSTAMP:20250108T183513Z
SUMMARY:Winter Student Film Festival
LOCATION:LHS Auditorium
URL;VALUE=URI:https://www.liverpool.k12.ny.us/schools/lhs/calendar/7286743/
 winter-student-film-festival
DTSTART:20250206T233000Z
DTEND:20250207T020000Z
END:VEVENT
END:VCALENDAR
