BEGIN:VCALENDAR
VERSION:2.0
PRODID:SchoolNow
CALSCALE:GREGORIAN
BEGIN:VEVENT
UID:8e5dfc7c-cdef-11ef-a8ea-0e520cbcb9fb
DTSTAMP:20250108T183704Z
SUMMARY:Black History Month Celebration
LOCATION:LHS Auditorium
URL;VALUE=URI:https://www.liverpool.k12.ny.us/schools/lhs/calendar/7286744/
 black-history-month-celebration
DTSTART:20250207T230000Z
DTEND:20250208T010000Z
END:VEVENT
END:VCALENDAR
