BEGIN:VCALENDAR
VERSION:2.0
PRODID:SchoolNow
CALSCALE:GREGORIAN
BEGIN:VEVENT
UID:ec20f7ba-cdef-11ef-b7b4-0a58a9feac02
DTSTAMP:20250108T183941Z
SUMMARY:HS Band Festival
LOCATION:LHS
URL;VALUE=URI:https://www.liverpool.k12.ny.us/schools/lhs/calendar/7286746/
 hs-band-festival
DTSTART:20250212T183900Z
DTEND:20250212T193900Z
END:VEVENT
END:VCALENDAR
