BEGIN:VCALENDAR
VERSION:2.0
PRODID:SchoolNow
CALSCALE:GREGORIAN
BEGIN:VEVENT
UID:06011afc-cdf0-11ef-a661-0a58a9feac02
DTSTAMP:20250108T184024Z
SUMMARY:HS Band Festival Concert
LOCATION:LHS
URL;VALUE=URI:https://www.liverpool.k12.ny.us/schools/lhs/calendar/7286747/
 hs-band-festival-concert
DTSTART:20250214T000000Z
DTEND:20250214T020000Z
END:VEVENT
END:VCALENDAR
