BEGIN:VCALENDAR
VERSION:2.0
PRODID:SchoolNow
CALSCALE:GREGORIAN
BEGIN:VEVENT
UID:3227a8bc-cdf0-11ef-8c77-0a58a9feac02
DTSTAMP:20250108T184138Z
SUMMARY:LHS Musical (3/13)
LOCATION:LHS
URL;VALUE=URI:https://www.liverpool.k12.ny.us/schools/lhs/calendar/7286748/
 lhs-musical-3-13
DTSTART:20250313T230000Z
DTEND:20250314T000000Z
END:VEVENT
END:VCALENDAR
