BEGIN:VCALENDAR
VERSION:2.0
PRODID:SchoolNow
CALSCALE:GREGORIAN
BEGIN:VEVENT
UID:4bc89f1a-cdf0-11ef-a68e-0a58a9feac02
DTSTAMP:20250108T184221Z
SUMMARY:LHS Musical (3/14)
LOCATION:LHS
URL;VALUE=URI:https://www.liverpool.k12.ny.us/schools/lhs/calendar/7286749/
 lhs-musical-3-14
DTSTART:20250314T230000Z
DTEND:20250315T000000Z
END:VEVENT
END:VCALENDAR
