BEGIN:VCALENDAR
VERSION:2.0
PRODID:SchoolNow
CALSCALE:GREGORIAN
BEGIN:VEVENT
UID:5ce7bf38-cdf0-11ef-af05-0a58a9feac02
DTSTAMP:20250108T184250Z
SUMMARY:LHS Musical (3/15)
LOCATION:LHS
URL;VALUE=URI:https://www.liverpool.k12.ny.us/schools/lhs/calendar/7286750/
 lhs-musical-3-15
DTSTART:20250315T230000Z
DTEND:20250316T000000Z
END:VEVENT
END:VCALENDAR
