BEGIN:VCALENDAR
VERSION:2.0
PRODID:SchoolNow
CALSCALE:GREGORIAN
BEGIN:VEVENT
UID:f522d1de-cdf0-11ef-bfb3-0afff977f8af
DTSTAMP:20250108T184706Z
SUMMARY:Academic Awards Night
LOCATION:LHS
URL;VALUE=URI:https://www.liverpool.k12.ny.us/schools/lhs/calendar/7286755/
 academic-awards-night
DTSTART:20250519T230000Z
DTEND:20250520T010000Z
END:VEVENT
END:VCALENDAR
