BEGIN:VCALENDAR
VERSION:2.0
PRODID:SchoolNow
CALSCALE:GREGORIAN
BEGIN:VEVENT
UID:0c983c96-cdf1-11ef-a1b0-026303f45e01
DTSTAMP:20250108T184745Z
SUMMARY:LHS Art Show Reception/National Honor Society
LOCATION:LHS
URL;VALUE=URI:https://www.liverpool.k12.ny.us/schools/lhs/calendar/7286756/
 lhs-art-show-reception-national-honor-society
DTSTART:20250520T220000Z
DTEND:20250521T000000Z
END:VEVENT
END:VCALENDAR
