BEGIN:VCALENDAR
VERSION:2.0
PRODID:SchoolNow
CALSCALE:GREGORIAN
BEGIN:VEVENT
UID:42a31efa-cdf1-11ef-afb3-0a58a9feac02
DTSTAMP:20250108T184916Z
SUMMARY:PRISM Concert
LOCATION:Civic Center
URL;VALUE=URI:https://www.liverpool.k12.ny.us/schools/lhs/calendar/7286758/
 prism-concert
DTSTART:20250521T230000Z
DTEND:20250522T010000Z
END:VEVENT
END:VCALENDAR
