BEGIN:VCALENDAR
VERSION:2.0
PRODID:SchoolNow
CALSCALE:GREGORIAN
BEGIN:VEVENT
UID:95868e2c-cdf1-11ef-8b57-0a58a9feac02
DTSTAMP:20250108T185135Z
SUMMARY:Top 30 Breakfast
LOCATION:LHS
URL;VALUE=URI:https://www.liverpool.k12.ny.us/schools/lhs/calendar/7286761/
 top-30-breakfast
DTSTART:20250530T113000Z
DTEND:20250530T123000Z
END:VEVENT
END:VCALENDAR
