BEGIN:VCALENDAR
VERSION:2.0
PRODID:SchoolNow
CALSCALE:GREGORIAN
BEGIN:VEVENT
UID:f5081852-5a64-11eb-9d46-02c61b20df03
DTSTAMP:20210316T182100Z
SUMMARY:LCSD Middle and High School Report Cards Online (7-2-21)
URL;VALUE=URI:https://www.liverpool.k12.ny.us/schools/lm/calendar/2527377/l
 csd-middle-and-high-school-report-cards-online
DTSTART:20210702T120000Z
DTEND:20210703T035900Z
END:VEVENT
END:VCALENDAR
