BEGIN:VCALENDAR
VERSION:2.0
PRODID:SchoolNow
CALSCALE:GREGORIAN
BEGIN:VEVENT
UID:f5082a86-5a64-11eb-9308-02c61b20df03
DTSTAMP:20210615T174557Z
SUMMARY:Physical Setting/Earth Science Regents Exams
URL;VALUE=URI:https://www.liverpool.k12.ny.us/schools/lm/calendar/2527382/r
 egents-exams
DTSTART:20210624T121500Z
DTEND:20210624T151500Z
END:VEVENT
END:VCALENDAR
