BEGIN:VCALENDAR
VERSION:2.0
PRODID:SchoolNow
CALSCALE:GREGORIAN
BEGIN:VEVENT
UID:f5084868-5a64-11eb-a1b9-02c61b20df03
DTSTAMP:20210615T174531Z
SUMMARY:Living Environment Regents Exams
URL;VALUE=URI:https://www.liverpool.k12.ny.us/schools/lm/calendar/2527392/r
 egents-exams
DTSTART:20210622T121500Z
DTEND:20210622T151500Z
END:VEVENT
END:VCALENDAR
