BEGIN:VCALENDAR
VERSION:2.0
PRODID:SchoolNow
CALSCALE:GREGORIAN
BEGIN:VEVENT
UID:f50877e8-5a64-11eb-9f83-02c61b20df03
DTSTAMP:20210615T174519Z
SUMMARY:ELA Regents Exams
URL;VALUE=URI:https://www.liverpool.k12.ny.us/schools/lm/calendar/2527407/r
 egents-exams
DTSTART:20210617T121500Z
DTEND:20210617T151500Z
END:VEVENT
END:VCALENDAR
