BEGIN:VCALENDAR
VERSION:2.0
PRODID:SchoolNow
CALSCALE:GREGORIAN
BEGIN:VEVENT
UID:f508a79a-5a64-11eb-bb29-02c61b20df03
DTSTAMP:20210407T134523Z
SUMMARY:LCSD Middle and High School Progress Reports Online (5-28-21)
URL;VALUE=URI:https://www.liverpool.k12.ny.us/schools/lm/calendar/2527422/l
 csd-middle-and-high-school-progress-reports-online
DTSTART;VALUE=DATE:20210528
DTEND;VALUE=DATE:20210529
END:VEVENT
END:VCALENDAR
