BEGIN:VCALENDAR
VERSION:2.0
PRODID:SchoolNow
CALSCALE:GREGORIAN
BEGIN:VEVENT
UID:f508b2bc-5a64-11eb-96c2-02c61b20df03
DTSTAMP:20210407T134534Z
SUMMARY:LCSD Middle and High School Report Cards Online (4-23-21)
URL;VALUE=URI:https://www.liverpool.k12.ny.us/schools/lm/calendar/2527427/l
 csd-middle-and-high-school-report-cards-online
DTSTART;VALUE=DATE:20210423
DTEND;VALUE=DATE:20210424
END:VEVENT
END:VCALENDAR
