BEGIN:VCALENDAR
VERSION:2.0
PRODID:SchoolNow
CALSCALE:GREGORIAN
BEGIN:VEVENT
UID:f50906ea-5a64-11eb-bbc5-02c61b20df03
DTSTAMP:20210316T182130Z
SUMMARY:LCSD Middle and High School Progress Reports Online (12-25-20)
URL;VALUE=URI:https://www.liverpool.k12.ny.us/schools/lm/calendar/2527450/l
 csd-middle-and-high-school-progress-reports-online
DTSTART:20201225T050000Z
DTEND:20201226T045900Z
END:VEVENT
END:VCALENDAR
