BEGIN:VCALENDAR
VERSION:2.0
PRODID:SchoolNow
CALSCALE:GREGORIAN
BEGIN:VEVENT
UID:f50927ba-5a64-11eb-b92e-02c61b20df03
DTSTAMP:20210316T182157Z
SUMMARY:LCSD Middle and High School Progress Reports Online (10-16-20)
URL;VALUE=URI:https://www.liverpool.k12.ny.us/schools/lm/calendar/2527460/l
 csd-middle-and-high-school-progress-reports-online
DTSTART:20201016T040000Z
DTEND:20201017T035900Z
END:VEVENT
END:VCALENDAR
