BEGIN:VCALENDAR
VERSION:2.0
PRODID:SchoolNow
CALSCALE:GREGORIAN
BEGIN:VEVENT
UID:f50942ea-5a64-11eb-a820-02c61b20df03
DTSTAMP:20210316T182232Z
SUMMARY:Middle School Virtual Half Day (10-14-20)
URL;VALUE=URI:https://www.liverpool.k12.ny.us/schools/lm/calendar/2527469/m
 iddle-school-virtual-half-day
DTSTART:20201014T040000Z
DTEND:20201015T035900Z
END:VEVENT
END:VCALENDAR
