BEGIN:VCALENDAR
VERSION:2.0
PRODID:SchoolNow
CALSCALE:GREGORIAN
BEGIN:VEVENT
UID:f50be270-5a64-11eb-91c7-02c61b20df03
DTSTAMP:20210119T144521Z
SUMMARY:LMS Photo Retakes/Make-up
URL;VALUE=URI:https://www.liverpool.k12.ny.us/schools/lm/calendar/2527602/l
 ms-photo-retakes-make-up
DTSTART:20201120T050000Z
DTEND:20201121T045959Z
END:VEVENT
END:VCALENDAR
