BEGIN:VCALENDAR
VERSION:2.0
PRODID:SchoolNow
CALSCALE:GREGORIAN
BEGIN:VEVENT
UID:f50bef7c-5a64-11eb-a15e-02c61b20df03
DTSTAMP:20210119T144521Z
SUMMARY:LMS Pajamarama
URL;VALUE=URI:https://www.liverpool.k12.ny.us/schools/lm/calendar/2527604/l
 ms-pajamarama
DTSTART:20201112T050000Z
DTEND:20201114T045959Z
END:VEVENT
END:VCALENDAR
