BEGIN:VCALENDAR
VERSION:2.0
PRODID:SchoolNow
CALSCALE:GREGORIAN
BEGIN:VEVENT
UID:f50bf3aa-5a64-11eb-9ff8-02c61b20df03
DTSTAMP:20210119T144521Z
SUMMARY:LMS Ski/Snowboard Club
URL;VALUE=URI:https://www.liverpool.k12.ny.us/schools/lm/calendar/2527605/l
 ms-ski-snowboard-club
DTSTART:20201106T000000Z
DTEND:20201106T003000Z
END:VEVENT
END:VCALENDAR
