BEGIN:VCALENDAR
VERSION:2.0
PRODID:SchoolNow
CALSCALE:GREGORIAN
BEGIN:VEVENT
UID:f50bf756-5a64-11eb-bc12-02c61b20df03
DTSTAMP:20210119T144521Z
SUMMARY:LMS Virtual Day
URL;VALUE=URI:https://www.liverpool.k12.ny.us/schools/lm/calendar/2527606/l
 ms-virtual-day
DTSTART:20201103T050000Z
DTEND:20201104T045959Z
END:VEVENT
END:VCALENDAR
