BEGIN:VCALENDAR
VERSION:2.0
PRODID:SchoolNow
CALSCALE:GREGORIAN
BEGIN:VEVENT
UID:f50bfb34-5a64-11eb-8909-02c61b20df03
DTSTAMP:20210119T144521Z
SUMMARY:LMS Dress up for Halloween day
URL;VALUE=URI:https://www.liverpool.k12.ny.us/schools/lm/calendar/2527607/l
 ms-dress-up-for-halloween-day
DTSTART:20201029T040000Z
DTEND:20201031T035959Z
END:VEVENT
END:VCALENDAR
