BEGIN:VCALENDAR
VERSION:2.0
PRODID:SchoolNow
CALSCALE:GREGORIAN
BEGIN:VEVENT
UID:f50bfeea-5a64-11eb-a2bf-02c61b20df03
DTSTAMP:20210119T144521Z
SUMMARY:LMS Virtual Curriculum Night
URL;VALUE=URI:https://www.liverpool.k12.ny.us/schools/lm/calendar/2527608/l
 ms-virtual-curriculum-night
DTSTART:20201014T040000Z
DTEND:20201015T035959Z
END:VEVENT
END:VCALENDAR
