BEGIN:VCALENDAR
VERSION:2.0
PRODID:SchoolNow
CALSCALE:GREGORIAN
BEGIN:VEVENT
UID:f50c02be-5a64-11eb-add5-02c61b20df03
DTSTAMP:20210119T144521Z
SUMMARY:LMS Photo Day (Cohort A group)
URL;VALUE=URI:https://www.liverpool.k12.ny.us/schools/lm/calendar/2527609/l
 ms-photo-day-cohort-a-group
DTSTART:20201002T040000Z
DTEND:20201003T035959Z
END:VEVENT
END:VCALENDAR
