BEGIN:VCALENDAR
VERSION:2.0
PRODID:SchoolNow
CALSCALE:GREGORIAN
BEGIN:VEVENT
UID:f50c0b60-5a64-11eb-a990-02c61b20df03
DTSTAMP:20210119T144521Z
SUMMARY:LMS Yearbook Sale
URL;VALUE=URI:https://www.liverpool.k12.ny.us/schools/lm/calendar/2527610/l
 ms-yearbook-sale
DTSTART:20201001T040000Z
DTEND:20201024T035959Z
END:VEVENT
END:VCALENDAR
