BEGIN:VCALENDAR
VERSION:2.0
PRODID:SchoolNow
CALSCALE:GREGORIAN
BEGIN:VEVENT
UID:f50c1204-5a64-11eb-a5fc-02c61b20df03
DTSTAMP:20210119T144521Z
SUMMARY:LMS Photo Day (Cohort B group)
URL;VALUE=URI:https://www.liverpool.k12.ny.us/schools/lm/calendar/2527611/l
 ms-photo-day-cohort-b-group
DTSTART:20201001T040000Z
DTEND:20201002T035959Z
END:VEVENT
END:VCALENDAR
