BEGIN:VCALENDAR
VERSION:2.0
PRODID:SchoolNow
CALSCALE:GREGORIAN
BEGIN:VEVENT
UID:f50c18a8-5a64-11eb-b36c-02c61b20df03
DTSTAMP:20210119T144521Z
SUMMARY:LMS Chromebook & Math Ready Book Pick Up
URL;VALUE=URI:https://www.liverpool.k12.ny.us/schools/lm/calendar/2527612/l
 ms-chromebook-math-ready-book-pick-up
DTSTART:20200910T050000Z
DTEND:20200911T200000Z
END:VEVENT
END:VCALENDAR
