BEGIN:VCALENDAR
VERSION:2.0
PRODID:SchoolNow
CALSCALE:GREGORIAN
BEGIN:VEVENT
UID:5d48cd74-8e51-11eb-b6c9-0acdb799fc65
DTSTAMP:20210326T164534Z
SUMMARY:Superintendent's Conference Day - Students Do Not Report (11-2-21)
URL;VALUE=URI:https://www.liverpool.k12.ny.us/schools/lm/calendar/2563416/s
 uperintendents-conference-day-11-2-21
DTSTART;VALUE=DATE:20211102
DTEND;VALUE=DATE:20211103
END:VEVENT
END:VCALENDAR
