BEGIN:VCALENDAR
VERSION:2.0
PRODID:SchoolNow
CALSCALE:GREGORIAN
BEGIN:VEVENT
UID:46c0dd42-8e53-11eb-91f8-0acdb799fc65
DTSTAMP:20210326T164948Z
SUMMARY:Martin Luther King Jr. Day - School Closed (1-17-22)
URL;VALUE=URI:https://www.liverpool.k12.ny.us/schools/lm/calendar/2563485/m
 artin-luther-king-jr-day-school-closed-1-17-22
DTSTART;VALUE=DATE:20220117
DTEND;VALUE=DATE:20220118
END:VEVENT
END:VCALENDAR
