BEGIN:VCALENDAR
VERSION:2.0
PRODID:SchoolNow
CALSCALE:GREGORIAN
BEGIN:VEVENT
UID:15cad82a-9d2e-11eb-bd1f-026c38758dcb
DTSTAMP:20210414T143122Z
SUMMARY:NYS Science Assessments - Grade 4 & 8
URL;VALUE=URI:https://www.liverpool.k12.ny.us/schools/lm/calendar/2576829/n
 ys-science-assessments-grade-4-8
DTSTART;VALUE=DATE:20210607
DTEND;VALUE=DATE:20210608
END:VEVENT
END:VCALENDAR
