BEGIN:VCALENDAR
VERSION:2.0
PRODID:SchoolNow
CALSCALE:GREGORIAN
BEGIN:VEVENT
UID:e13d08d4-c92f-11eb-aaa0-0e35a0fc6e4b
DTSTAMP:20210609T165540Z
SUMMARY:Early Dismissal
URL;VALUE=URI:https://www.liverpool.k12.ny.us/schools/lm/calendar/2615744/e
 arly-dismissal
DTSTART:20210625T120500Z
DTEND:20210625T142000Z
END:VEVENT
END:VCALENDAR
