BEGIN:VCALENDAR
VERSION:2.0
PRODID:SchoolNow
CALSCALE:GREGORIAN
BEGIN:VEVENT
UID:230a2184-c930-11eb-8578-0e35a0fc6e4b
DTSTAMP:20210609T165606Z
SUMMARY:7th Grade Yearbook Distribution
URL;VALUE=URI:https://www.liverpool.k12.ny.us/schools/lm/calendar/2615745/7
 th-grade-yearbook-distribution
DTSTART:20210622T120500Z
DTEND:20210622T122000Z
END:VEVENT
END:VCALENDAR
