BEGIN:VCALENDAR
VERSION:2.0
PRODID:SchoolNow
CALSCALE:GREGORIAN
BEGIN:VEVENT
UID:3f696b28-c930-11eb-a5c2-0e35a0fc6e4b
DTSTAMP:20210609T165556Z
SUMMARY:8th Grade Yearbook Distribution
URL;VALUE=URI:https://www.liverpool.k12.ny.us/schools/lm/calendar/2615747/8
 th-grade-yearbook-distribution
DTSTART:20210621T161500Z
DTEND:20210621T190500Z
END:VEVENT
END:VCALENDAR
