BEGIN:VCALENDAR
VERSION:2.0
PRODID:SchoolNow
CALSCALE:GREGORIAN
BEGIN:VEVENT
UID:b9a4a30c-1008-11ec-be9e-0a7c49726989
DTSTAMP:20210907T182922Z
SUMMARY:Middle School Parent Conferences (10-7-21)
URL;VALUE=URI:https://www.liverpool.k12.ny.us/schools/lm/calendar/2715055/m
 iddle-school-parent-conferences-10-7-21
DTSTART:20211007T040000Z
DTEND:20211008T035900Z
END:VEVENT
END:VCALENDAR
