BEGIN:VCALENDAR
VERSION:2.0
PRODID:SchoolNow
CALSCALE:GREGORIAN
BEGIN:VEVENT
UID:dd366f58-1008-11ec-9c08-0a7c49726989
DTSTAMP:20210907T182908Z
SUMMARY:Middle School Early Dismissal (10-8-21)
URL;VALUE=URI:https://www.liverpool.k12.ny.us/schools/lm/calendar/2715059/m
 iddle-school-early-dismissal-10-8-21
DTSTART:20211008T040000Z
DTEND:20211009T035900Z
END:VEVENT
END:VCALENDAR
