BEGIN:VCALENDAR
VERSION:2.0
PRODID:SchoolNow
CALSCALE:GREGORIAN
BEGIN:VEVENT
UID:141cf4e2-1009-11ec-b680-0a7c49726989
DTSTAMP:20210907T182939Z
SUMMARY:Professional Development Early Dismissal (10-13-21)
URL;VALUE=URI:https://www.liverpool.k12.ny.us/schools/lm/calendar/2715068/p
 rofessional-development-early-dismissal-10-13-21
DTSTART:20211013T040000Z
DTEND:20211014T035900Z
END:VEVENT
END:VCALENDAR
