BEGIN:VCALENDAR
VERSION:2.0
PRODID:SchoolNow
CALSCALE:GREGORIAN
BEGIN:VEVENT
UID:f8428952-1009-11ec-b684-0a7c49726989
DTSTAMP:20211104T123545Z
SUMMARY:Middle School Report Cards (11-19-21)
URL;VALUE=URI:https://www.liverpool.k12.ny.us/schools/lm/calendar/2715117/m
 iddle-school-report-cards-11-17-21
DTSTART:20211119T193100Z
DTEND:20211119T203100Z
END:VEVENT
END:VCALENDAR
